BEGIN:VCALENDAR
VERSION:2.0
PRODID:-//Tukios.com/
BEGIN:VEVENT
UID:a9ae0902-c5b3-430f-a363-89e99bd7a76c@www.nordgrenmemorialchapel.com
DTSTAMP:20260422T194345Z
DTSTART:20260424T200000Z
DTEND:20260424T220000Z
SUMMARY:Visitation
DESCRIPTION:
URL:https://www.nordgrenmemorialchapel.com/obituaries/sandra-belba
LOCATION: 300 Lincoln Street  Worcester MA 01605
GEO:42.2872794;-71.7903164
END:VEVENT
END:VCALENDAR