BEGIN:VCALENDAR
VERSION:2.0
PRODID:-//Tukios.com/
BEGIN:VEVENT
UID:4bb40981-22eb-4963-ac88-bd19ec9ec0f9@www.nordgrenmemorialchapel.com
DTSTAMP:20260422T194444Z
DTSTART:20260424T200000Z
DTEND:20260424T210000Z
SUMMARY:Memorial Service
DESCRIPTION:
URL:https://www.nordgrenmemorialchapel.com/obituaries/sandra-belba
LOCATION: 300 Lincoln Street  Worcester MA 01605
GEO:42.2872794;-71.7903164
END:VEVENT
END:VCALENDAR